BEGIN:VCALENDAR
VERSION:2.0
PRODID:-//Minnesota DFL Senate District 55 - ECPv6.15.20//NONSGML v1.0//EN
CALSCALE:GREGORIAN
METHOD:PUBLISH
X-WR-CALNAME:Minnesota DFL Senate District 55
X-ORIGINAL-URL:https://www.sd55dfl.org
X-WR-CALDESC:Events for Minnesota DFL Senate District 55
REFRESH-INTERVAL;VALUE=DURATION:PT1H
X-Robots-Tag:noindex
X-PUBLISHED-TTL:PT1H
BEGIN:VTIMEZONE
TZID:America/Chicago
BEGIN:DAYLIGHT
TZOFFSETFROM:-0600
TZOFFSETTO:-0500
TZNAME:CDT
DTSTART:20240310T080000
END:DAYLIGHT
BEGIN:STANDARD
TZOFFSETFROM:-0500
TZOFFSETTO:-0600
TZNAME:CST
DTSTART:20241103T070000
END:STANDARD
BEGIN:DAYLIGHT
TZOFFSETFROM:-0600
TZOFFSETTO:-0500
TZNAME:CDT
DTSTART:20250309T080000
END:DAYLIGHT
BEGIN:STANDARD
TZOFFSETFROM:-0500
TZOFFSETTO:-0600
TZNAME:CST
DTSTART:20251102T070000
END:STANDARD
BEGIN:DAYLIGHT
TZOFFSETFROM:-0600
TZOFFSETTO:-0500
TZNAME:CDT
DTSTART:20260308T080000
END:DAYLIGHT
BEGIN:STANDARD
TZOFFSETFROM:-0500
TZOFFSETTO:-0600
TZNAME:CST
DTSTART:20261101T070000
END:STANDARD
END:VTIMEZONE
BEGIN:VEVENT
DTSTART;TZID=America/Chicago:20250804T120000
DTEND;TZID=America/Chicago:20250810T210000
DTSTAMP:20260422T175154
CREATED:20250311T204246Z
LAST-MODIFIED:20250704T121509Z
UID:600-1754308800-1754859600@www.sd55dfl.org
SUMMARY:Dakota County Fair - DFL Booth
DESCRIPTION:Sign up to volunteer at the SD55 booth here!
URL:https://www.sd55dfl.org/event/dakota-county-fair-dfl-booth/
LOCATION:Dakota County Fairgrounds\, 4008 220th St W\, Farmington\, MN\, 55024\, United States
END:VEVENT
END:VCALENDAR