BEGIN:VCALENDAR
VERSION:2.0
PRODID:-//Minnesota DFL Senate District 55 - ECPv6.15.20//NONSGML v1.0//EN
CALSCALE:GREGORIAN
METHOD:PUBLISH
X-ORIGINAL-URL:https://www.sd55dfl.org
X-WR-CALDESC:Events for Minnesota DFL Senate District 55
REFRESH-INTERVAL;VALUE=DURATION:PT1H
X-Robots-Tag:noindex
X-PUBLISHED-TTL:PT1H
BEGIN:VTIMEZONE
TZID:America/Chicago
BEGIN:DAYLIGHT
TZOFFSETFROM:-0600
TZOFFSETTO:-0500
TZNAME:CDT
DTSTART:20240310T080000
END:DAYLIGHT
BEGIN:STANDARD
TZOFFSETFROM:-0500
TZOFFSETTO:-0600
TZNAME:CST
DTSTART:20241103T070000
END:STANDARD
BEGIN:DAYLIGHT
TZOFFSETFROM:-0600
TZOFFSETTO:-0500
TZNAME:CDT
DTSTART:20250309T080000
END:DAYLIGHT
BEGIN:STANDARD
TZOFFSETFROM:-0500
TZOFFSETTO:-0600
TZNAME:CST
DTSTART:20251102T070000
END:STANDARD
BEGIN:DAYLIGHT
TZOFFSETFROM:-0600
TZOFFSETTO:-0500
TZNAME:CDT
DTSTART:20260308T080000
END:DAYLIGHT
BEGIN:STANDARD
TZOFFSETFROM:-0500
TZOFFSETTO:-0600
TZNAME:CST
DTSTART:20261101T070000
END:STANDARD
END:VTIMEZONE
BEGIN:VEVENT
DTSTART;TZID=America/Chicago:20251019T100000
DTEND;TZID=America/Chicago:20251019T150000
DTSTAMP:20260425T081402
CREATED:20251008T213509Z
LAST-MODIFIED:20251008T213509Z
UID:665-1760868000-1760886000@www.sd55dfl.org
SUMMARY:CD2 & CD3 Volunteer Training Summit
DESCRIPTION:Join us Sunday October 19th as we meet for a volunteer training summit. This will be a full day event where we train volunteers to create\, host\, and support events across the state like house parties\, forums\, door knocks\, and phone banks. \nIn this training you’ll learn: \n\nHow to recruit for your events\nCreate a welcoming environment for attendees and volunteers through radical hospitality\nCollaborate and distribute the organizing workload to create a sustainable organizing structure.\nBuilding momentum and re-shifting folks into future events.\nUsing tools like Mobilize and VAN to support your outreach efforts.\n\nLunch will be provided. Looking forward to seeing you soon!
URL:https://www.sd55dfl.org/event/cd2-cd3-volunteer-training-summit/
LOCATION:MN
END:VEVENT
END:VCALENDAR