BEGIN:VCALENDAR
VERSION:2.0
PRODID:-//Minnesota DFL Senate District 55 - ECPv6.15.20//NONSGML v1.0//EN
CALSCALE:GREGORIAN
METHOD:PUBLISH
X-ORIGINAL-URL:https://www.sd55dfl.org
X-WR-CALDESC:Events for Minnesota DFL Senate District 55
REFRESH-INTERVAL;VALUE=DURATION:PT1H
X-Robots-Tag:noindex
X-PUBLISHED-TTL:PT1H
BEGIN:VTIMEZONE
TZID:America/Chicago
BEGIN:DAYLIGHT
TZOFFSETFROM:-0600
TZOFFSETTO:-0500
TZNAME:CDT
DTSTART:20240310T080000
END:DAYLIGHT
BEGIN:STANDARD
TZOFFSETFROM:-0500
TZOFFSETTO:-0600
TZNAME:CST
DTSTART:20241103T070000
END:STANDARD
BEGIN:DAYLIGHT
TZOFFSETFROM:-0600
TZOFFSETTO:-0500
TZNAME:CDT
DTSTART:20250309T080000
END:DAYLIGHT
BEGIN:STANDARD
TZOFFSETFROM:-0500
TZOFFSETTO:-0600
TZNAME:CST
DTSTART:20251102T070000
END:STANDARD
BEGIN:DAYLIGHT
TZOFFSETFROM:-0600
TZOFFSETTO:-0500
TZNAME:CDT
DTSTART:20260308T080000
END:DAYLIGHT
BEGIN:STANDARD
TZOFFSETFROM:-0500
TZOFFSETTO:-0600
TZNAME:CST
DTSTART:20261101T070000
END:STANDARD
END:VTIMEZONE
BEGIN:VEVENT
DTSTART;TZID=America/Chicago:20251109T160000
DTEND;TZID=America/Chicago:20251109T220000
DTSTAMP:20260425T063437
CREATED:20251103T170032Z
LAST-MODIFIED:20251103T170122Z
UID:670-1762704000-1762725600@www.sd55dfl.org
SUMMARY:DFL CD2 Fall Gala 2025
DESCRIPTION:Join us for the 24th Annual DFL CD2 Fall Gala to be held next Sunday\, November 9th at the Royal Cliff Event Center\, 2280 Cliff Road\, Eagan\, MN 55122. This fundraiser is our largest event of the year and helps us raise money to support our congressional candidate for the US House of Representatives. \nThe Silent Auction is now open on-line at 32Auctions! The auction ends at 8:00 pm on Sunday\, November 9 at the Gala.
URL:https://www.sd55dfl.org/event/dfl-cd2-fall-gala-2025/
LOCATION:Royal Cliff Banquet\, 2280 Cliff Road\, Eagan\, MN\, 55122\, United States
ATTACH;FMTTYPE=image/jpeg:https://www.sd55dfl.org/wp-content/uploads/2025/11/CD2-Fall-Gala-2025.jpg
END:VEVENT
BEGIN:VEVENT
DTSTART;TZID=America/Chicago:20251110T190000
DTEND;TZID=America/Chicago:20251110T203000
DTSTAMP:20260425T063437
CREATED:20250929T195254Z
LAST-MODIFIED:20250929T195254Z
UID:656-1762801200-1762806600@www.sd55dfl.org
SUMMARY:DFL SD55 Central Committee Meeting – November 2025
DESCRIPTION:Please join us for the monthly DFL SD55 Central Committee meeting. This is where the work of your local Senate District gets done! All Democrats – and those who are questioning – are welcome! Learn about how politics starts at your local level\, meet your local representatives\, and get involved!
URL:https://www.sd55dfl.org/event/dfl-sd55-central-committee-meeting-november-2025/
LOCATION:Savage Public Library – Large Meeting Room\, 13090 Alabama Ave\, Savage\, MN\, 55378\, United States
END:VEVENT
END:VCALENDAR